BEGIN:VCALENDAR
VERSION:2.0
PRODID:-//Virginia Early Learning Academies - ECPv4.6.16//NONSGML v1.0//EN
CALSCALE:GREGORIAN
METHOD:PUBLISH
X-WR-CALNAME:Virginia Early Learning Academies
X-ORIGINAL-URL:https://vaearlylearningacademies.com
X-WR-CALDESC:Events for Virginia Early Learning Academies
BEGIN:VEVENT
DTSTART;VALUE=DATE:20250401
DTEND;VALUE=DATE:20250402
DTSTAMP:20260422T102549
CREATED:20210312T183921Z
LAST-MODIFIED:20210312T183921Z
UID:12164-1743465600-1743551999@vaearlylearningacademies.com
SUMMARY:April Fool's Day
DESCRIPTION:
URL:https://vaearlylearningacademies.com/event/april-fools-day/2025-04-01/
CATEGORIES:Calendar Only
END:VEVENT
END:VCALENDAR