BEGIN:VCALENDAR
VERSION:2.0
PRODID:-//Virginia Early Learning Academies - ECPv4.6.16//NONSGML v1.0//EN
CALSCALE:GREGORIAN
METHOD:PUBLISH
X-WR-CALNAME:Virginia Early Learning Academies
X-ORIGINAL-URL:https://vaearlylearningacademies.com
X-WR-CALDESC:Events for Virginia Early Learning Academies
BEGIN:VEVENT
DTSTART;VALUE=DATE:20200914
DTEND;VALUE=DATE:20200919
DTSTAMP:20260423T120943
CREATED:20191122T163146Z
LAST-MODIFIED:20191122T163146Z
UID:2803-1600041600-1600473599@vaearlylearningacademies.com
SUMMARY:Child Passenger Safety Week
DESCRIPTION:
URL:https://vaearlylearningacademies.com/event/child-passenger-safety-week/
CATEGORIES:Calendar Only
END:VEVENT
END:VCALENDAR