BEGIN:VCALENDAR
VERSION:2.0
PRODID:-//Virginia Early Learning Academies - ECPv4.6.16//NONSGML v1.0//EN
CALSCALE:GREGORIAN
METHOD:PUBLISH
X-WR-CALNAME:Virginia Early Learning Academies
X-ORIGINAL-URL:https://vaearlylearningacademies.com
X-WR-CALDESC:Events for Virginia Early Learning Academies
BEGIN:VEVENT
DTSTART;VALUE=DATE:20210601
DTEND;VALUE=DATE:20210602
DTSTAMP:20260422T165601
CREATED:20210312T184212Z
LAST-MODIFIED:20210312T184212Z
UID:6125-1622505600-1622591999@vaearlylearningacademies.com
SUMMARY:Global Day of Parents
DESCRIPTION:
URL:https://vaearlylearningacademies.com/event/global-day-parents/
CATEGORIES:Calendar Only
END:VEVENT
END:VCALENDAR