BEGIN:VCALENDAR
VERSION:2.0
PRODID:-//Virginia Early Learning Academies - ECPv4.6.16//NONSGML v1.0//EN
CALSCALE:GREGORIAN
METHOD:PUBLISH
X-WR-CALNAME:Virginia Early Learning Academies
X-ORIGINAL-URL:https://vaearlylearningacademies.com
X-WR-CALDESC:Events for Virginia Early Learning Academies
BEGIN:VEVENT
DTSTART;VALUE=DATE:20200913
DTEND;VALUE=DATE:20200914
DTSTAMP:20260423T134006
CREATED:20191122T163105Z
LAST-MODIFIED:20191122T163105Z
UID:2801-1599955200-1600041599@vaearlylearningacademies.com
SUMMARY:Grandparents Day
DESCRIPTION:
URL:https://vaearlylearningacademies.com/event/grandparents-day/
CATEGORIES:Calendar Only
END:VEVENT
END:VCALENDAR