BEGIN:VCALENDAR
VERSION:2.0
PRODID:-//Virginia Early Learning Academies - ECPv4.6.16//NONSGML v1.0//EN
CALSCALE:GREGORIAN
METHOD:PUBLISH
X-WR-CALNAME:Virginia Early Learning Academies
X-ORIGINAL-URL:https://vaearlylearningacademies.com
X-WR-CALDESC:Events for Virginia Early Learning Academies
BEGIN:VEVENT
DTSTART;VALUE=DATE:20200907
DTEND;VALUE=DATE:20200908
DTSTAMP:20260423T151301
CREATED:20191122T163043Z
LAST-MODIFIED:20191122T163043Z
UID:2799-1599436800-1599523199@vaearlylearningacademies.com
SUMMARY:Labor Day - Centers Closed
DESCRIPTION:
URL:https://vaearlylearningacademies.com/event/labor-day-centers-closed/
CATEGORIES:Calendar Only,Prospective Families, Events, Home
END:VEVENT
END:VCALENDAR