BEGIN:VCALENDAR
VERSION:2.0
PRODID:-//Virginia Early Learning Academies - ECPv4.6.16//NONSGML v1.0//EN
CALSCALE:GREGORIAN
METHOD:PUBLISH
X-WR-CALNAME:Virginia Early Learning Academies
X-ORIGINAL-URL:https://vaearlylearningacademies.com
X-WR-CALDESC:Events for Virginia Early Learning Academies
BEGIN:VEVENT
DTSTART;TZID=America/New_York:20240527T080000
DTEND;TZID=America/New_York:20240527T170000
DTSTAMP:20260423T194749
CREATED:20240124T235327Z
LAST-MODIFIED:20240124T235327Z
UID:13495-1716796800-1716829200@vaearlylearningacademies.com
SUMMARY:Memorial Day
DESCRIPTION:
URL:https://vaearlylearningacademies.com/event/memorial-day-4/
END:VEVENT
END:VCALENDAR