BEGIN:VCALENDAR
VERSION:2.0
PRODID:-//Virginia Early Learning Academies - ECPv4.6.16//NONSGML v1.0//EN
CALSCALE:GREGORIAN
METHOD:PUBLISH
X-WR-CALNAME:Virginia Early Learning Academies
X-ORIGINAL-URL:https://vaearlylearningacademies.com
X-WR-CALDESC:Events for Virginia Early Learning Academies
BEGIN:VEVENT
DTSTART;VALUE=DATE:20210827
DTEND;VALUE=DATE:20210828
DTSTAMP:20260422T000326
CREATED:20210312T184551Z
LAST-MODIFIED:20210312T184551Z
UID:6182-1630022400-1630108799@vaearlylearningacademies.com
SUMMARY:National Just Because Day
DESCRIPTION:
URL:https://vaearlylearningacademies.com/event/national-just-day/
CATEGORIES:Calendar Only
END:VEVENT
END:VCALENDAR