BEGIN:VCALENDAR
VERSION:2.0
PRODID:-//Virginia Early Learning Academies - ECPv4.6.16//NONSGML v1.0//EN
CALSCALE:GREGORIAN
METHOD:PUBLISH
X-WR-CALNAME:Virginia Early Learning Academies
X-ORIGINAL-URL:https://vaearlylearningacademies.com
X-WR-CALDESC:Events for Virginia Early Learning Academies
BEGIN:VEVENT
DTSTART;VALUE=DATE:20210901
DTEND;VALUE=DATE:20210902
DTSTAMP:20260421T205458
CREATED:20210312T184620Z
LAST-MODIFIED:20210312T184620Z
UID:6188-1630454400-1630540799@vaearlylearningacademies.com
SUMMARY:National Learning and Development Month
DESCRIPTION:
URL:https://vaearlylearningacademies.com/event/national-learning-development-month/
CATEGORIES:Calendar Only
END:VEVENT
END:VCALENDAR