BEGIN:VCALENDAR
VERSION:2.0
PRODID:-//Virginia Early Learning Academies - ECPv4.6.16//NONSGML v1.0//EN
CALSCALE:GREGORIAN
METHOD:PUBLISH
X-WR-CALNAME:Virginia Early Learning Academies
X-ORIGINAL-URL:https://vaearlylearningacademies.com
X-WR-CALDESC:Events for Virginia Early Learning Academies
BEGIN:VEVENT
DTSTART;VALUE=DATE:20201120
DTEND;VALUE=DATE:20201121
DTSTAMP:20260423T010444
CREATED:20191122T164343Z
LAST-MODIFIED:20191122T164343Z
UID:2817-1605830400-1605916799@vaearlylearningacademies.com
SUMMARY:National Parent Involvement Day
DESCRIPTION:
URL:https://vaearlylearningacademies.com/event/national-parent-involvement-day/
CATEGORIES:Calendar Only
END:VEVENT
END:VCALENDAR