BEGIN:VCALENDAR
VERSION:2.0
PRODID:-//Virginia Early Learning Academies - ECPv4.6.16//NONSGML v1.0//EN
CALSCALE:GREGORIAN
METHOD:PUBLISH
X-WR-CALNAME:Virginia Early Learning Academies
X-ORIGINAL-URL:https://vaearlylearningacademies.com
X-WR-CALDESC:Events for Virginia Early Learning Academies
BEGIN:VEVENT
DTSTART;VALUE=DATE:20210906
DTEND;VALUE=DATE:20210907
DTSTAMP:20260421T172021
CREATED:20210312T184700Z
LAST-MODIFIED:20210312T184700Z
UID:6200-1630886400-1630972799@vaearlylearningacademies.com
SUMMARY:National Read a Book Day
DESCRIPTION:
URL:https://vaearlylearningacademies.com/event/national-read-book-day/
CATEGORIES:Calendar Only
END:VEVENT
END:VCALENDAR