BEGIN:VCALENDAR
VERSION:2.0
PRODID:-//Virginia Early Learning Academies - ECPv4.6.16//NONSGML v1.0//EN
CALSCALE:GREGORIAN
METHOD:PUBLISH
X-WR-CALNAME:Virginia Early Learning Academies
X-ORIGINAL-URL:https://vaearlylearningacademies.com
X-WR-CALDESC:Events for Virginia Early Learning Academies
BEGIN:VEVENT
DTSTART;TZID=America/New_York:20210807T090000
DTEND;TZID=America/New_York:20210807T120000
DTSTAMP:20260422T060159
CREATED:20210610T154634Z
LAST-MODIFIED:20210610T185859Z
UID:6711-1628326800-1628337600@vaearlylearningacademies.com
SUMMARY:Open House
DESCRIPTION:  \nPlan to attend our open house from 9:00 a.m. to 12:00 p.m. at both our Sterling and Ashburn locations. \n
URL:https://vaearlylearningacademies.com/event/open-house-2/
CATEGORIES:Calendar Only
END:VEVENT
END:VCALENDAR