BEGIN:VCALENDAR
VERSION:2.0
PRODID:-//Virginia Early Learning Academies - ECPv4.6.16//NONSGML v1.0//EN
CALSCALE:GREGORIAN
METHOD:PUBLISH
X-WR-CALNAME:Virginia Early Learning Academies
X-ORIGINAL-URL:https://vaearlylearningacademies.com
X-WR-CALDESC:Events for Virginia Early Learning Academies
BEGIN:VEVENT
DTSTART;TZID=America/New_York:20210821T090000
DTEND;TZID=America/New_York:20210821T120000
DTSTAMP:20260422T013947
CREATED:20210610T154700Z
LAST-MODIFIED:20210610T185948Z
UID:6717-1629536400-1629547200@vaearlylearningacademies.com
SUMMARY:Open House
DESCRIPTION:  \nPlan to attend our open house from 9:00 a.m. to 12:00 p.m. at both our Sterling and Ashburn locations. \n
URL:https://vaearlylearningacademies.com/event/open-house-3/
CATEGORIES:Calendar Only
END:VEVENT
END:VCALENDAR