BEGIN:VCALENDAR
VERSION:2.0
PRODID:-//Virginia Early Learning Academies - ECPv4.6.16//NONSGML v1.0//EN
CALSCALE:GREGORIAN
METHOD:PUBLISH
X-WR-CALNAME:Virginia Early Learning Academies
X-ORIGINAL-URL:https://vaearlylearningacademies.com
X-WR-CALDESC:Events for Virginia Early Learning Academies
BEGIN:VEVENT
DTSTART;TZID=America/New_York:20220521T100000
DTEND;TZID=America/New_York:20220521T130000
DTSTAMP:20260423T181144
CREATED:20220502T230631Z
LAST-MODIFIED:20220518T135101Z
UID:9037-1653127200-1653138000@vaearlylearningacademies.com
SUMMARY:Open House
DESCRIPTION:  \nOur literacy-themed Open House at our Sterling location will have age-appropriate activities for the children\, snacks\, and a fun take-home activity for each family that attends. \n* Note: Ashburn location Open House has been canceled. Check back for future events at this location. \n
URL:https://vaearlylearningacademies.com/event/open-house-5/
LOCATION:46586 S. Cottage Road\, Sterling\, VA\, 20164
END:VEVENT
END:VCALENDAR