BEGIN:VCALENDAR
VERSION:2.0
PRODID:-//Virginia Early Learning Academies - ECPv4.6.16//NONSGML v1.0//EN
CALSCALE:GREGORIAN
METHOD:PUBLISH
X-WR-CALNAME:Virginia Early Learning Academies
X-ORIGINAL-URL:https://vaearlylearningacademies.com
X-WR-CALDESC:Events for Virginia Early Learning Academies
BEGIN:VEVENT
DTSTART;TZID=America/New_York:20220410T080000
DTEND;TZID=America/New_York:20220410T170000
DTSTAMP:20260423T101734
CREATED:20211221T220545Z
LAST-MODIFIED:20211221T220545Z
UID:8157-1649577600-1649610000@vaearlylearningacademies.com
SUMMARY:Siblings Day
DESCRIPTION:
URL:https://vaearlylearningacademies.com/event/siblings-day/
END:VEVENT
END:VCALENDAR