BEGIN:VCALENDAR
VERSION:2.0
PRODID:-//Virginia Early Learning Academies - ECPv4.6.16//NONSGML v1.0//EN
CALSCALE:GREGORIAN
METHOD:PUBLISH
X-WR-CALNAME:Virginia Early Learning Academies
X-ORIGINAL-URL:https://vaearlylearningacademies.com
X-WR-CALDESC:Events for Virginia Early Learning Academies
BEGIN:VEVENT
DTSTART;VALUE=DATE:20201126
DTEND;VALUE=DATE:20201127
DTSTAMP:20260422T220042
CREATED:20191122T164437Z
LAST-MODIFIED:20191122T164437Z
UID:2821-1606348800-1606435199@vaearlylearningacademies.com
SUMMARY:Thanksgiving - Centers Closed
DESCRIPTION:
URL:https://vaearlylearningacademies.com/event/thanksgiving-centers-closed/
CATEGORIES:Calendar Only,Prospective Families, Events, Home
END:VEVENT
END:VCALENDAR