BEGIN:VCALENDAR
VERSION:2.0
PRODID:-//Virginia Early Learning Academies - ECPv4.6.16//NONSGML v1.0//EN
CALSCALE:GREGORIAN
METHOD:PUBLISH
X-WR-CALNAME:Virginia Early Learning Academies
X-ORIGINAL-URL:https://vaearlylearningacademies.com
X-WR-CALDESC:Events for Virginia Early Learning Academies
BEGIN:VEVENT
DTSTART;VALUE=DATE:20201111
DTEND;VALUE=DATE:20201112
DTSTAMP:20260423T042517
CREATED:20191122T164200Z
LAST-MODIFIED:20191122T164200Z
UID:2813-1605052800-1605139199@vaearlylearningacademies.com
SUMMARY:Veterans Day
DESCRIPTION:
URL:https://vaearlylearningacademies.com/event/veterans-day-2/
CATEGORIES:Calendar Only
END:VEVENT
END:VCALENDAR