BEGIN:VCALENDAR
VERSION:2.0
PRODID:-//Virginia Early Learning Academies - ECPv4.6.16//NONSGML v1.0//EN
CALSCALE:GREGORIAN
METHOD:PUBLISH
X-WR-CALNAME:Virginia Early Learning Academies
X-ORIGINAL-URL:https://vaearlylearningacademies.com
X-WR-CALDESC:Events for Virginia Early Learning Academies
BEGIN:VEVENT
DTSTART;TZID=America/New_York:20220301T080000
DTEND;TZID=America/New_York:20220301T170000
DTSTAMP:20260423T084417
CREATED:20211221T220514Z
LAST-MODIFIED:20211221T220514Z
UID:8151-1646121600-1646154000@vaearlylearningacademies.com
SUMMARY:World Compliment Day
DESCRIPTION:
URL:https://vaearlylearningacademies.com/event/world-compliment-day/
END:VEVENT
END:VCALENDAR