BEGIN:VCALENDAR
VERSION:2.0
PRODID:-//Virginia Early Learning Academies - ECPv4.6.16//NONSGML v1.0//EN
CALSCALE:GREGORIAN
METHOD:PUBLISH
X-WR-CALNAME:Virginia Early Learning Academies
X-ORIGINAL-URL:https://vaearlylearningacademies.com
X-WR-CALDESC:Events for Virginia Early Learning Academies
BEGIN:VEVENT
DTSTART;VALUE=DATE:20211005
DTEND;VALUE=DATE:20211006
DTSTAMP:20260421T124214
CREATED:20210312T184813Z
LAST-MODIFIED:20210312T184813Z
UID:6218-1633392000-1633478399@vaearlylearningacademies.com
SUMMARY:World Teachers' Day
DESCRIPTION:
URL:https://vaearlylearningacademies.com/event/world-teachers-day/
CATEGORIES:Calendar Only
END:VEVENT
END:VCALENDAR